{"text_format":"3","workbook":"xlsx","n_sheets":2,"sheets":["Название ","Лист1"],"not_rendered":{"external_links":3,"defined_names":1},"read":"whole","date_system":"1900"}

{"sheet":"Название ","index":0,"n_rows":38,"n_cols":46,"rows_kept":38,"merged":[[0,0,0,45],[1,0,1,45],[2,4,2,18],[2,20,2,38],[2,40,2,45],[3,3,3,6],[3,7,3,10],[3,11,3,14],[3,15,3,18],[3,19,3,22],[3,23,3,26],[3,27,3,30],[3,32,3,34],[3,36,3,38],[3,39,3,41],[3,43,3,45]]}
["Мониторинг изучения  родных языков в  2023/2024 учебном году"]
["Количество часов родного  языка в неделю"]
[{"$nulls":4},"Начальное звено",{"$nulls":15},"Основное звено",{"$nulls":19},"Среднее звено"]
[{"$nulls":3},"1 классы",{"$nulls":3},"2 классы",{"$nulls":3},"3 классы",{"$nulls":3},"4 классы",{"$nulls":3},"5 классы",{"$nulls":3},"6 классы",{"$nulls":3},"7 классы",{"$nulls":4},"8 классы",{"$nulls":3},"9 классы",null,null,"10 классы",{"$nulls":3},"11 классы"]
[null,"Муниципальный район",null,"Учебная неделя (5-дн. или 6-дн.)","Родной язык","Родная литер","ГОС яз","Учебная неделя (5-дн. или 6-дн.)","Родной язык","Родная литер","ГОС яз","Учебная неделя (5-дн. или 6-дн.)","Родной язык","Родная литер","ГОС яз","Учебная неделя (5-дн. или 6-дн.)","Родной язык","Родная литер","ГОС яз","Учебная неделя (5-дн. или 6-дн.)","Родной язык","Родная литер","ГОС яз","Учебная неделя (5-дн. или 6-дн.)","Родной язык","Родная литер","ГОС яз","Учебная неделя (5-дн. или 6-дн.)","Родной язык","Родная литер","ГОС яз","Учебная неделя (5-дн. или 6-дн.)","Родной язык","Родная литер","ГОС яз","Учебная неделя (5-дн. или 6-дн.)","Родной язык","Родная литер","ГОС яз","Учебная неделя (5-дн. или 6-дн.)","Родной язык","Родная литер","ГОС яз","Учебная неделя (5-дн. или 6-дн.)","Родной язык","Родная литер"]
[1,"Лениногорский","МБОУ\"Шугуровская СОШ им.В.П.Чкалова\" МО \"ЛМР\" РТ",5,1,1,2,6,2,1,3,6,2,1,3,6,2,1,3,6,2,1,3,6,2,1,3,6,2,1,3,6,2,1,3,6,2,1,3,6,1,1,null,6,1,1]
[2,"Лениногорский","МБОУ \"Зеленорощинская сош им. М. Горького\"",5,1,1,0,0,0,0,0,6,2,1,3,6,2,1,3,6,2,1,3,6,2,1,3,6,2,1,3,6,2,1,3,6,2,1,3,6,2,1,null,6,1,2]
[3,"Лениногорский","МБОУ \"Зай-Каратайская ООШ\" МО \"ЛМР\" РТ",5,2,1,0,6,3,1,0,{"$nulls":4},6,3,1,0,6,3,1,0,6,3,1,0,6,3,1,0,6,3,1,0,6,3,1,0]
[4,"Лениногорский ","МБОУ \"СОШ №4\"",5,1,1,1,6,1,1,2,6,1,1,1,6,1,1,1,6,1,1,1,6,1,1,1,6,1,1,1,6,1,1,1,6,1,1,1,6,1,1,null,6,1,1]
[5,"Лениногорский","МБОУ \"Новочершилинская  начальная школа-детский сад\"",5,0,0,1,6,0,0,2,6,0,0,0,6,0,0,2]
[6,"Лениногорский","МБОУ \"Сугушлинская  начальная общеобразовательная  школа-детский сад\"","нет","нет","нет","нет",6,3,1,"нет",6,3,1,"нет",6,3,1,"нет","нет","нет","нет","нет","нет","нет","нет","нет","нет","нет","нет","нет","нет","нет","нет","нет","нет","нет","нет","нет","нет","нет","нет",null,"нет","нет","нет"]
[7,"Лениногорский ","МБОУ \"Старо-Иштерякская ООШ\"",5,2,1,0,6,3,1,0,6,3,1,0,6,3,1,0,6,3,1,0,6,3,1,0,6,3,1,0,6,3,1,0,6,3,1,0]
[8,"Лениногорский","МБОУ \"СОШ №2\"",5,1,1,2,6,0,0,3,6,0,0,3,6,0,0,3,6,0,0,3,6,0,0,3,6,0,0,3,6,2,1,3,6,2,1,3,6,2,1,null,6,1,0]
[9,"Лениногорский ","МБОУ \"Федотовская ООШ\" МО ЛМР РТ ",5,0,0,2,6,0,0,3,6,0,0,3,6,0,0,3,6,0,0,3,6,0,0,3,6,0,0,3,6,0,0,3,6,0,0,3,0,0,0,null,0,0,0]
[10,{"$f":"'[1]Название '!B6","v":"Лениногорский"},{"$f":"'[1]Название '!C6","v":"МБОУ \"СОШ№13 г.Лениногорска\" МО \"ЛМР\" РТ"},5,{"$f":"'[1]Название '!E6","v":1},{"$f":"'[1]Название '!F6","v":1},{"$f":"'[1]Название '!G6","v":2},{"$f":"'[1]Название '!H6","v":6},{"$f":"'[1]Название '!I6","v":2},{"$f":"'[1]Название '!J6","v":1},{"$f":"'[1]Название '!K6","v":3},{"$f":"'[1]Название '!L6","v":6},{"$f":"'[1]Название '!M6","v":2},{"$f":"'[1]Название '!N6","v":1},{"$f":"'[1]Название '!O6","v":3},{"$f":"'[1]Название '!P6","v":6},{"$f":"'[1]Название '!Q6","v":2},{"$f":"'[1]Название '!R6","v":1},{"$f":"'[1]Название '!S6","v":3},{"$f":"'[1]Название '!T6","v":6},{"$f":"'[1]Название '!U6","v":2},{"$f":"'[1]Название '!V6","v":1},{"$f":"'[1]Название '!W6","v":3},{"$f":"'[1]Название '!X6","v":6},{"$f":"'[1]Название '!Y6","v":2},{"$f":"'[1]Название '!Z6","v":1},{"$f":"'[1]Название '!AA6","v":3},{"$f":"'[1]Название '!AB6","v":6},{"$f":"'[1]Название '!AC6","v":2},{"$f":"'[1]Название '!AD6","v":1},{"$f":"'[1]Название '!AE6","v":3},{"$f":"'[1]Название '!AF6","v":6},{"$f":"'[1]Название '!AG6","v":2},{"$f":"'[1]Название '!AH6","v":1},{"$f":"'[1]Название '!AI6","v":3},{"$f":"'[1]Название '!AJ6","v":6},{"$f":"'[1]Название '!AK6","v":2},{"$f":"'[1]Название '!AL6","v":1},{"$f":"'[1]Название '!AM6","v":3},{"$f":"'[1]Название '!AN6","v":0},{"$f":"'[1]Название '!AO6","v":0},{"$f":"'[1]Название '!AP6","v":0},null,{"$f":"'[1]Название '!AQ6","v":0},{"$f":"'[1]Название '!AR6","v":0},{"$f":"'[1]Название '!AS6","v":0}]
[11,"Лениногорский","МБОУ \"Старокувакская СОШ\"",5,0,0,3,6,0,0,3,6,0,0,3,6,0,0,3,6,0,0,3,6,0,0,3,6,0,0,3,6,2,1,0,6,2,1,0,6,2,1,null,6,1,1]
[12,"Лениногорский","МБОУ \"Лицей №12 г.Лениногорска\" МО \"ЛМР\" РТ",5,1,1,2,6,2,1,3,6,2,1,3,6,2,1,3,6,2,1,3,6,2,1,3,6,2,1,3,6,2,1,3,6,2,1,3,6,2,1,null,6,1,1]
[13,"Лениногорский","МБОУ \"Сарабикуловская ООШ\"",5,2,1,0,6,3,1,0,6,3,1,0,6,3,1,0,6,3,1,0,6,3,1,0,6,3,1,0,6,3,1,0,6,3,1,0,0,0,0,null,0,0,0]
[14,"Лениногорский","МБОУ \"Урдалинская ООШ\" МО ЛМР РТ",{"$nulls":8},6,3,1,0,6,3,1,0,6,3,1,0,6,3,1,0,6,3,1,0,6,3,1,0,6,3,1,0]
[15,"Лениногорский","МБОУ \"Урмышлинская ООШ\"",5,2,1,0,6,3,1,0,6,3,1,0,6,3,1,0,6,3,1,0,6,3,1,0,6,3,1,0,6,3,1,0,6,3,1,0,0,0,0,null,0,0,0]
[16,"Лениногорский","МБОУ \"Куакбашская ООШ\" МО \"ЛМР\" РТ",5,2,1,0,6,3,1,0,6,3,1,0,6,3,1,0,6,3,1,0,6,3,1,0,6,3,1,null,6,3,1,0,6,3,1,0]
[17,"Лениногорский","МБОУ \"ООШ № 1\"",5,1,1,2,6,2,1,3,6,2,1,3,6,2,1,3,6,2,1,3,6,2,1,3,6,2,1,3,6,2,1,3,6,2,1,3,0,0,0,null,0,0,0]
[18,{"$f":"'[2]Название '!B6","v":"Лениногорский"},{"$f":"'[2]Название '!C6","v":"МБОУ СОШ №10 "},{"$f":"'[2]Название '!D6","v":5},{"$f":"'[2]Название '!E6","v":1},{"$f":"'[2]Название '!F6","v":1},{"$f":"'[2]Название '!G6","v":2},{"$f":"'[2]Название '!H6","v":6},{"$f":"'[2]Название '!I6","v":2},{"$f":"'[2]Название '!J6","v":1},{"$f":"'[2]Название '!K6","v":3},{"$f":"'[2]Название '!L6","v":6},{"$f":"'[2]Название '!M6","v":2},{"$f":"'[2]Название '!N6","v":1},{"$f":"'[2]Название '!O6","v":3},{"$f":"'[2]Название '!P6","v":6},{"$f":"'[2]Название '!Q6","v":2},{"$f":"'[2]Название '!R6","v":1},{"$f":"'[2]Название '!S6","v":3},{"$f":"'[2]Название '!T6","v":6},{"$f":"'[2]Название '!U6","v":2},{"$f":"'[2]Название '!V6","v":1},{"$f":"'[2]Название '!W6","v":3},{"$f":"'[2]Название '!X6","v":6},{"$f":"'[2]Название '!Y6","v":2},{"$f":"'[2]Название '!Z6","v":1},{"$f":"'[2]Название '!AA6","v":3},{"$f":"'[2]Название '!AB6","v":6},{"$f":"'[2]Название '!AC6","v":2},{"$f":"'[2]Название '!AD6","v":1},{"$f":"'[2]Название '!AE6","v":3},{"$f":"'[2]Название '!AF6","v":6},{"$f":"'[2]Название '!AG6","v":2},{"$f":"'[2]Название '!AH6","v":1},{"$f":"'[2]Название '!AI6","v":3},{"$f":"'[2]Название '!AJ6","v":6},{"$f":"'[2]Название '!AK6","v":2},{"$f":"'[2]Название '!AL6","v":1},{"$f":"'[2]Название '!AM6","v":3},{"$f":"'[2]Название '!AN6","v":6},{"$f":"'[2]Название '!AO6","v":2},{"$f":"'[2]Название '!AP6","v":1},3,{"$f":"'[2]Название '!AQ6","v":6},{"$f":"'[2]Название '!AR6","v":1},{"$f":"'[2]Название '!AS6","v":0}]
[19,{"$f":"'[3]Название '!B6","v":"Лениногорский"},{"$f":"'[3]Название '!C6","v":"МБОУ \"Тимяшевская СОШ\""},{"$f":"'[3]Название '!D6","v":5},{"$f":"'[3]Название '!E6","v":1},{"$f":"'[3]Название '!F6","v":1},{"$f":"'[3]Название '!G6","v":2},{"$f":"'[3]Название '!H6","v":6},{"$f":"'[3]Название '!I6","v":2},{"$f":"'[3]Название '!J6","v":1},{"$f":"'[3]Название '!K6","v":3},{"$f":"'[3]Название '!L6","v":6},{"$f":"'[3]Название '!M6","v":2},{"$f":"'[3]Название '!N6","v":1},{"$f":"'[3]Название '!O6","v":3},{"$f":"'[3]Название '!P6","v":6},{"$f":"'[3]Название '!Q6","v":2},{"$f":"'[3]Название '!R6","v":1},{"$f":"'[3]Название '!S6","v":3},{"$f":"'[3]Название '!T6","v":6},{"$f":"'[3]Название '!U6","v":2},{"$f":"'[3]Название '!V6","v":1},{"$f":"'[3]Название '!W6","v":3},{"$f":"'[3]Название '!X6","v":6},{"$f":"'[3]Название '!Y6","v":2},{"$f":"'[3]Название '!Z6","v":1},{"$f":"'[3]Название '!AA6","v":3},{"$f":"'[3]Название '!AB6","v":6},{"$f":"'[3]Название '!AC6","v":2},{"$f":"'[3]Название '!AD6","v":1},{"$f":"'[3]Название '!AE6","v":3},{"$f":"'[3]Название '!AF6","v":6},{"$f":"'[3]Название '!AG6","v":2},{"$f":"'[3]Название '!AH6","v":1},{"$f":"'[3]Название '!AI6","v":3},{"$f":"'[3]Название '!AJ6","v":6},{"$f":"'[3]Название '!AK6","v":2},{"$f":"'[3]Название '!AL6","v":1},{"$f":"'[3]Название '!AM6","v":3},{"$f":"'[3]Название '!AN6","v":6},{"$f":"'[3]Название '!AO6","v":2},{"$f":"'[3]Название '!AP6","v":1},3,{"$f":"'[3]Название '!AQ6","v":6},{"$f":"'[3]Название '!AR6","v":1},{"$f":"'[3]Название '!AS6","v":1}]
[20,"Лениногорский","МБОУ  СОШ №3 г.Лениногорска РТ",5,1,1,2,6,2,1,3,6,2,1,3,6,2,1,3,6,2,1,3,6,2,1,3,6,2,1,3,6,2,1,3,6,2,1,3]
[21,"Лениногорский","МБОУ \"СОШ №7 г.Лениногорска\"",5,1,1,2,6,2,1,3,6,2,1,3,6,2,1,3,6,2,1,3,6,2,1,3,6,2,1,3,6,2,1,3,6,2,1,3,6,2,1,null,6,1,1]
[22,"Лениногорский","МБОУ\"Ново-Сережкинская ООШ\"",0,0,0,0,6,2,1,0,0,0,0,0,6,2,1,0,6,2,1,0,0,0,0,0,6,2,1,0,0,2,1,0,6,2,1,0]
[23,"Лениногорский","МБОУ \"Керлигачская ООШ\" ",6,2,1,0,6,3,1,0,6,3,1,0,6,3,1,0,6,4,1,0,6,3,1,0,6,4,1,0,6,3,1,0,6,3,1,0]
[24,"Лениногорский","МБОУ \"Подлесная основная общеобразовательная школ\"",5,0,0,3,6,0,0,3,6,0,0,3,6,0,0,3,6,0,0,3,6,0,0,3,6,0,0,3,6,0,0,3,6,0,0,3]
[25,"Лениногорский","МБОУ \"Старописьмянская ООШ\" мо \"ЛМР\" РТ",5,0,0,2,6,0,0,3,6,0,0,3,6,0,0,3,6,0,0,3,6,0,0,3,6,0,0,3,6,0,0,3,6,0,0,3]
[26,"Лениногорский","МБОУ \"Гимназия №11 г.Лениногорска\"",5,1,1,2,6,2,1,3,6,2,1,3,6,2,1,3,6,2,2,3,6,2,2,3,6,2,2,3,6,2,2,3,6,2,2,3,6,2,1,0,6,1,2]
[27,"Лениногорский район ","МБОУ \"Нижнечершилинская ООШ\"",5,2,1,0,{"$nulls":4},6,3,1,0,6,3,1,0,{"$nulls":4},6,3,1,0,6,3,1,0,6,3,1,0,6,3,1,0]
[28,"Лениногорский","МБОУ СОШ №8 г.Лениногорск ",5,1,1,2,6,2,1,3,6,2,1,3,6,2,1,3,6,2,1,3,6,2,1,3,6,2,1,3,6,2,1,3,6,2,1,3,6,1,1,0,6,1,1]
[29,"Лениногорский","МБОУ \"СОШ №6 г.Лениногорска\"",5,0,0,2,6,0,0,3,6,0,0,3,6,0,0,3,6,0,0,3,6,0,0,3,6,2,1,3,6,0,0,3,6,2,1,3,6,0,0,0,6,0,0]
[30,"Лениногорский","МБОУ \"Ивановская ООШ\"",5,null,null,2,{"$nulls":4},6,null,null,3,6,null,null,3,6,null,null,3,6,null,null,3,6,null,null,3,6,null,null,3,6,null,null,3]
[31,"Лениногорский","МБОУ « Каркалинская ООШ им.Галии и Замита Рахимовых»",5,2,1,0,6,3,1,0,6,3,1,0,6,3,1,0,6,3,1,0,6,3,1,0,6,3,1,0,6,3,1,0,6,3,1,0]
[32,"Лениногорский","МБОУ \"СОШ №5\" МО \"ЛМР\" РТ",5,1,1,2,6,2,1,3,6,2,1,3,6,2,1,3,6,2,1,3,6,2,1,3,6,2,1,3,6,2,1,3,6,2,1,3,6,2,1,3,6,1,1]
[33,"Лениногорский","МБОУ \"Новоиштерякская НОШДС\"",5,2,1,null,6,3,1,0,6,3,1,0,6,3,1]

{"sheet":"Лист1","index":1,"n_rows":0,"n_cols":0,"rows_kept":0}